BEGIN:VCALENDAR
VERSION:2.0
PRODID:-//City of Hutchinson - ECPv6.15.18//NONSGML v1.0//EN
CALSCALE:GREGORIAN
METHOD:PUBLISH
X-ORIGINAL-URL:https://hutchinsonmn.gov
X-WR-CALDESC:Events for City of Hutchinson
REFRESH-INTERVAL;VALUE=DURATION:PT1H
X-Robots-Tag:noindex
X-PUBLISHED-TTL:PT1H
BEGIN:VTIMEZONE
TZID:America/Chicago
BEGIN:DAYLIGHT
TZOFFSETFROM:-0600
TZOFFSETTO:-0500
TZNAME:CDT
DTSTART:20230312T080000
END:DAYLIGHT
BEGIN:STANDARD
TZOFFSETFROM:-0500
TZOFFSETTO:-0600
TZNAME:CST
DTSTART:20231105T070000
END:STANDARD
BEGIN:DAYLIGHT
TZOFFSETFROM:-0600
TZOFFSETTO:-0500
TZNAME:CDT
DTSTART:20240310T080000
END:DAYLIGHT
BEGIN:STANDARD
TZOFFSETFROM:-0500
TZOFFSETTO:-0600
TZNAME:CST
DTSTART:20241103T070000
END:STANDARD
BEGIN:DAYLIGHT
TZOFFSETFROM:-0600
TZOFFSETTO:-0500
TZNAME:CDT
DTSTART:20250309T080000
END:DAYLIGHT
BEGIN:STANDARD
TZOFFSETFROM:-0500
TZOFFSETTO:-0600
TZNAME:CST
DTSTART:20251102T070000
END:STANDARD
BEGIN:DAYLIGHT
TZOFFSETFROM:-0600
TZOFFSETTO:-0500
TZNAME:CDT
DTSTART:20260308T080000
END:DAYLIGHT
BEGIN:STANDARD
TZOFFSETFROM:-0500
TZOFFSETTO:-0600
TZNAME:CST
DTSTART:20261101T070000
END:STANDARD
BEGIN:DAYLIGHT
TZOFFSETFROM:-0600
TZOFFSETTO:-0500
TZNAME:CDT
DTSTART:20270314T080000
END:DAYLIGHT
BEGIN:STANDARD
TZOFFSETFROM:-0500
TZOFFSETTO:-0600
TZNAME:CST
DTSTART:20271107T070000
END:STANDARD
END:VTIMEZONE
BEGIN:VEVENT
DTSTART;TZID=America/Chicago:20260325T150000
DTEND;TZID=America/Chicago:20260325T170000
DTSTAMP:20260420T033539
CREATED:20251222T184011Z
LAST-MODIFIED:20260115T153558Z
UID:10011319-1774450800-1774458000@hutchinsonmn.gov
SUMMARY:Hutchinson Utilities Commission
DESCRIPTION:Meeting duration is subject to change.
URL:https://hutchinsonmn.gov/event/hutchinson-utilities-commission/2026-03-25/
LOCATION:Hutchinson Utilities\, 225 Michigan St SE\, Hutchinson\, MN\, 55350\, United States
CATEGORIES:Other Meeting
GEO:44.8905463;-94.3534985
X-APPLE-STRUCTURED-LOCATION;VALUE=URI;X-ADDRESS=Hutchinson Utilities 225 Michigan St SE Hutchinson MN 55350 United States;X-APPLE-RADIUS=500;X-TITLE=225 Michigan St SE:geo:-94.3534985,44.8905463
END:VEVENT
BEGIN:VEVENT
DTSTART;TZID=America/Chicago:20260225T150000
DTEND;TZID=America/Chicago:20260225T170000
DTSTAMP:20260420T033539
CREATED:20251222T184011Z
LAST-MODIFIED:20260115T153558Z
UID:10011318-1772031600-1772038800@hutchinsonmn.gov
SUMMARY:Hutchinson Utilities Commission
DESCRIPTION:Meeting duration is subject to change.
URL:https://hutchinsonmn.gov/event/hutchinson-utilities-commission/2026-02-25/
LOCATION:Hutchinson Utilities\, 225 Michigan St SE\, Hutchinson\, MN\, 55350\, United States
CATEGORIES:Other Meeting
GEO:44.8905463;-94.3534985
X-APPLE-STRUCTURED-LOCATION;VALUE=URI;X-ADDRESS=Hutchinson Utilities 225 Michigan St SE Hutchinson MN 55350 United States;X-APPLE-RADIUS=500;X-TITLE=225 Michigan St SE:geo:-94.3534985,44.8905463
END:VEVENT
BEGIN:VEVENT
DTSTART;TZID=America/Chicago:20260128T150000
DTEND;TZID=America/Chicago:20260128T170000
DTSTAMP:20260420T033539
CREATED:20251222T184011Z
LAST-MODIFIED:20260115T153558Z
UID:10011317-1769612400-1769619600@hutchinsonmn.gov
SUMMARY:Hutchinson Utilities Commission
DESCRIPTION:Meeting duration is subject to change.
URL:https://hutchinsonmn.gov/event/hutchinson-utilities-commission/2026-01-28/
LOCATION:Hutchinson Utilities\, 225 Michigan St SE\, Hutchinson\, MN\, 55350\, United States
CATEGORIES:Other Meeting
GEO:44.8905463;-94.3534985
X-APPLE-STRUCTURED-LOCATION;VALUE=URI;X-ADDRESS=Hutchinson Utilities 225 Michigan St SE Hutchinson MN 55350 United States;X-APPLE-RADIUS=500;X-TITLE=225 Michigan St SE:geo:-94.3534985,44.8905463
END:VEVENT
BEGIN:VEVENT
DTSTART;TZID=America/Chicago:20251231T150000
DTEND;TZID=America/Chicago:20251231T170000
DTSTAMP:20260420T033539
CREATED:20251222T184011Z
LAST-MODIFIED:20260115T153558Z
UID:10011195-1767193200-1767200400@hutchinsonmn.gov
SUMMARY:Hutchinson Utilities Commission
DESCRIPTION:Meeting duration is subject to change.
URL:https://hutchinsonmn.gov/event/hutchinson-utilities-commission/2025-12-31/
LOCATION:Hutchinson Utilities\, 225 Michigan St SE\, Hutchinson\, MN\, 55350\, United States
CATEGORIES:Other Meeting
GEO:44.8905463;-94.3534985
X-APPLE-STRUCTURED-LOCATION;VALUE=URI;X-ADDRESS=Hutchinson Utilities 225 Michigan St SE Hutchinson MN 55350 United States;X-APPLE-RADIUS=500;X-TITLE=225 Michigan St SE:geo:-94.3534985,44.8905463
END:VEVENT
BEGIN:VEVENT
DTSTART;TZID=America/Chicago:20251126T150000
DTEND;TZID=America/Chicago:20251126T170000
DTSTAMP:20260420T033539
CREATED:20251222T184011Z
LAST-MODIFIED:20260115T153558Z
UID:10011316-1764169200-1764176400@hutchinsonmn.gov
SUMMARY:Hutchinson Utilities Commission
DESCRIPTION:Meeting duration is subject to change.
URL:https://hutchinsonmn.gov/event/hutchinson-utilities-commission/2025-11-26/
LOCATION:Hutchinson Utilities\, 225 Michigan St SE\, Hutchinson\, MN\, 55350\, United States
CATEGORIES:Other Meeting
GEO:44.8905463;-94.3534985
X-APPLE-STRUCTURED-LOCATION;VALUE=URI;X-ADDRESS=Hutchinson Utilities 225 Michigan St SE Hutchinson MN 55350 United States;X-APPLE-RADIUS=500;X-TITLE=225 Michigan St SE:geo:-94.3534985,44.8905463
END:VEVENT
BEGIN:VEVENT
DTSTART;TZID=America/Chicago:20251029T150000
DTEND;TZID=America/Chicago:20251029T170000
DTSTAMP:20260420T033539
CREATED:20251222T184011Z
LAST-MODIFIED:20260115T153558Z
UID:10011194-1761750000-1761757200@hutchinsonmn.gov
SUMMARY:Hutchinson Utilities Commission
DESCRIPTION:Meeting duration is subject to change.
URL:https://hutchinsonmn.gov/event/hutchinson-utilities-commission/2025-10-29/
LOCATION:Hutchinson Utilities\, 225 Michigan St SE\, Hutchinson\, MN\, 55350\, United States
CATEGORIES:Other Meeting
GEO:44.8905463;-94.3534985
X-APPLE-STRUCTURED-LOCATION;VALUE=URI;X-ADDRESS=Hutchinson Utilities 225 Michigan St SE Hutchinson MN 55350 United States;X-APPLE-RADIUS=500;X-TITLE=225 Michigan St SE:geo:-94.3534985,44.8905463
END:VEVENT
BEGIN:VEVENT
DTSTART;TZID=America/Chicago:20250924T150000
DTEND;TZID=America/Chicago:20250924T170000
DTSTAMP:20260420T033539
CREATED:20251222T184011Z
LAST-MODIFIED:20260115T153558Z
UID:10011315-1758726000-1758733200@hutchinsonmn.gov
SUMMARY:Hutchinson Utilities Commission
DESCRIPTION:Meeting duration is subject to change.
URL:https://hutchinsonmn.gov/event/hutchinson-utilities-commission/2025-09-24/
LOCATION:Hutchinson Utilities\, 225 Michigan St SE\, Hutchinson\, MN\, 55350\, United States
CATEGORIES:Other Meeting
GEO:44.8905463;-94.3534985
X-APPLE-STRUCTURED-LOCATION;VALUE=URI;X-ADDRESS=Hutchinson Utilities 225 Michigan St SE Hutchinson MN 55350 United States;X-APPLE-RADIUS=500;X-TITLE=225 Michigan St SE:geo:-94.3534985,44.8905463
END:VEVENT
BEGIN:VEVENT
DTSTART;TZID=America/Chicago:20250827T150000
DTEND;TZID=America/Chicago:20250827T170000
DTSTAMP:20260420T033539
CREATED:20251222T184011Z
LAST-MODIFIED:20260115T153558Z
UID:10011314-1756306800-1756314000@hutchinsonmn.gov
SUMMARY:Hutchinson Utilities Commission
DESCRIPTION:Meeting duration is subject to change.
URL:https://hutchinsonmn.gov/event/hutchinson-utilities-commission/2025-08-27/
LOCATION:Hutchinson Utilities\, 225 Michigan St SE\, Hutchinson\, MN\, 55350\, United States
CATEGORIES:Other Meeting
GEO:44.8905463;-94.3534985
X-APPLE-STRUCTURED-LOCATION;VALUE=URI;X-ADDRESS=Hutchinson Utilities 225 Michigan St SE Hutchinson MN 55350 United States;X-APPLE-RADIUS=500;X-TITLE=225 Michigan St SE:geo:-94.3534985,44.8905463
END:VEVENT
BEGIN:VEVENT
DTSTART;TZID=America/Chicago:20250730T150000
DTEND;TZID=America/Chicago:20250730T170000
DTSTAMP:20260420T033539
CREATED:20251222T184011Z
LAST-MODIFIED:20260115T153558Z
UID:10011193-1753887600-1753894800@hutchinsonmn.gov
SUMMARY:Hutchinson Utilities Commission
DESCRIPTION:Meeting duration is subject to change.
URL:https://hutchinsonmn.gov/event/hutchinson-utilities-commission/2025-07-30/
LOCATION:Hutchinson Utilities\, 225 Michigan St SE\, Hutchinson\, MN\, 55350\, United States
CATEGORIES:Other Meeting
GEO:44.8905463;-94.3534985
X-APPLE-STRUCTURED-LOCATION;VALUE=URI;X-ADDRESS=Hutchinson Utilities 225 Michigan St SE Hutchinson MN 55350 United States;X-APPLE-RADIUS=500;X-TITLE=225 Michigan St SE:geo:-94.3534985,44.8905463
END:VEVENT
BEGIN:VEVENT
DTSTART;TZID=America/Chicago:20250625T150000
DTEND;TZID=America/Chicago:20250625T170000
DTSTAMP:20260420T033539
CREATED:20251222T184011Z
LAST-MODIFIED:20260115T153558Z
UID:10011313-1750863600-1750870800@hutchinsonmn.gov
SUMMARY:Hutchinson Utilities Commission
DESCRIPTION:Meeting duration is subject to change.
URL:https://hutchinsonmn.gov/event/hutchinson-utilities-commission/2025-06-25/
LOCATION:Hutchinson Utilities\, 225 Michigan St SE\, Hutchinson\, MN\, 55350\, United States
CATEGORIES:Other Meeting
GEO:44.8905463;-94.3534985
X-APPLE-STRUCTURED-LOCATION;VALUE=URI;X-ADDRESS=Hutchinson Utilities 225 Michigan St SE Hutchinson MN 55350 United States;X-APPLE-RADIUS=500;X-TITLE=225 Michigan St SE:geo:-94.3534985,44.8905463
END:VEVENT
BEGIN:VEVENT
DTSTART;TZID=America/Chicago:20250528T150000
DTEND;TZID=America/Chicago:20250528T170000
DTSTAMP:20260420T033539
CREATED:20251222T184011Z
LAST-MODIFIED:20260115T153558Z
UID:10011312-1748444400-1748451600@hutchinsonmn.gov
SUMMARY:Hutchinson Utilities Commission
DESCRIPTION:Meeting duration is subject to change.
URL:https://hutchinsonmn.gov/event/hutchinson-utilities-commission/2025-05-28/
LOCATION:Hutchinson Utilities\, 225 Michigan St SE\, Hutchinson\, MN\, 55350\, United States
CATEGORIES:Other Meeting
GEO:44.8905463;-94.3534985
X-APPLE-STRUCTURED-LOCATION;VALUE=URI;X-ADDRESS=Hutchinson Utilities 225 Michigan St SE Hutchinson MN 55350 United States;X-APPLE-RADIUS=500;X-TITLE=225 Michigan St SE:geo:-94.3534985,44.8905463
END:VEVENT
BEGIN:VEVENT
DTSTART;TZID=America/Chicago:20250430T150000
DTEND;TZID=America/Chicago:20250430T170000
DTSTAMP:20260420T033539
CREATED:20251222T184011Z
LAST-MODIFIED:20260115T153558Z
UID:10011192-1746025200-1746032400@hutchinsonmn.gov
SUMMARY:Hutchinson Utilities Commission
DESCRIPTION:Meeting duration is subject to change.
URL:https://hutchinsonmn.gov/event/hutchinson-utilities-commission/2025-04-30/
LOCATION:Hutchinson Utilities\, 225 Michigan St SE\, Hutchinson\, MN\, 55350\, United States
CATEGORIES:Other Meeting
GEO:44.8905463;-94.3534985
X-APPLE-STRUCTURED-LOCATION;VALUE=URI;X-ADDRESS=Hutchinson Utilities 225 Michigan St SE Hutchinson MN 55350 United States;X-APPLE-RADIUS=500;X-TITLE=225 Michigan St SE:geo:-94.3534985,44.8905463
END:VEVENT
BEGIN:VEVENT
DTSTART;TZID=America/Chicago:20250326T150000
DTEND;TZID=America/Chicago:20250326T170000
DTSTAMP:20260420T033539
CREATED:20251222T184011Z
LAST-MODIFIED:20260115T153558Z
UID:10011311-1743001200-1743008400@hutchinsonmn.gov
SUMMARY:Hutchinson Utilities Commission
DESCRIPTION:Meeting duration is subject to change.
URL:https://hutchinsonmn.gov/event/hutchinson-utilities-commission/2025-03-26/
LOCATION:Hutchinson Utilities\, 225 Michigan St SE\, Hutchinson\, MN\, 55350\, United States
CATEGORIES:Other Meeting
GEO:44.8905463;-94.3534985
X-APPLE-STRUCTURED-LOCATION;VALUE=URI;X-ADDRESS=Hutchinson Utilities 225 Michigan St SE Hutchinson MN 55350 United States;X-APPLE-RADIUS=500;X-TITLE=225 Michigan St SE:geo:-94.3534985,44.8905463
END:VEVENT
BEGIN:VEVENT
DTSTART;TZID=America/Chicago:20250226T150000
DTEND;TZID=America/Chicago:20250226T170000
DTSTAMP:20260420T033539
CREATED:20251222T184011Z
LAST-MODIFIED:20260115T153558Z
UID:10011310-1740582000-1740589200@hutchinsonmn.gov
SUMMARY:Hutchinson Utilities Commission
DESCRIPTION:Meeting duration is subject to change.
URL:https://hutchinsonmn.gov/event/hutchinson-utilities-commission/2025-02-26/
LOCATION:Hutchinson Utilities\, 225 Michigan St SE\, Hutchinson\, MN\, 55350\, United States
CATEGORIES:Other Meeting
GEO:44.8905463;-94.3534985
X-APPLE-STRUCTURED-LOCATION;VALUE=URI;X-ADDRESS=Hutchinson Utilities 225 Michigan St SE Hutchinson MN 55350 United States;X-APPLE-RADIUS=500;X-TITLE=225 Michigan St SE:geo:-94.3534985,44.8905463
END:VEVENT
BEGIN:VEVENT
DTSTART;TZID=America/Chicago:20250129T150000
DTEND;TZID=America/Chicago:20250129T170000
DTSTAMP:20260420T033539
CREATED:20251222T184011Z
LAST-MODIFIED:20260115T153558Z
UID:10011191-1738162800-1738170000@hutchinsonmn.gov
SUMMARY:Hutchinson Utilities Commission
DESCRIPTION:Meeting duration is subject to change.
URL:https://hutchinsonmn.gov/event/hutchinson-utilities-commission/2025-01-29/
LOCATION:Hutchinson Utilities\, 225 Michigan St SE\, Hutchinson\, MN\, 55350\, United States
CATEGORIES:Other Meeting
GEO:44.8905463;-94.3534985
X-APPLE-STRUCTURED-LOCATION;VALUE=URI;X-ADDRESS=Hutchinson Utilities 225 Michigan St SE Hutchinson MN 55350 United States;X-APPLE-RADIUS=500;X-TITLE=225 Michigan St SE:geo:-94.3534985,44.8905463
END:VEVENT
BEGIN:VEVENT
DTSTART;TZID=America/Chicago:20241218T150000
DTEND;TZID=America/Chicago:20241218T170000
DTSTAMP:20260420T033539
CREATED:20150902T155037Z
LAST-MODIFIED:20241202T173529Z
UID:10003606-1734534000-1734541200@hutchinsonmn.gov
SUMMARY:Hutchinson Utilities Commission
DESCRIPTION:Meeting duration is subject to change.
URL:https://hutchinsonmn.gov/event/hutchinson-utilities-commission-2024-12-25/
LOCATION:Hutchinson Utilities\, 225 Michigan St SE\, Hutchinson\, MN\, 55350\, United States
CATEGORIES:Other Meeting
GEO:44.8905463;-94.3534985
X-APPLE-STRUCTURED-LOCATION;VALUE=URI;X-ADDRESS=Hutchinson Utilities 225 Michigan St SE Hutchinson MN 55350 United States;X-APPLE-RADIUS=500;X-TITLE=225 Michigan St SE:geo:-94.3534985,44.8905463
END:VEVENT
END:VCALENDAR