BEGIN:VCALENDAR
VERSION:2.0
PRODID:-//City of Hutchinson - ECPv6.15.18//NONSGML v1.0//EN
CALSCALE:GREGORIAN
METHOD:PUBLISH
X-ORIGINAL-URL:https://hutchinsonmn.gov
X-WR-CALDESC:Events for City of Hutchinson
REFRESH-INTERVAL;VALUE=DURATION:PT1H
X-Robots-Tag:noindex
X-PUBLISHED-TTL:PT1H
BEGIN:VTIMEZONE
TZID:America/Chicago
BEGIN:DAYLIGHT
TZOFFSETFROM:-0600
TZOFFSETTO:-0500
TZNAME:CDT
DTSTART:20250309T080000
END:DAYLIGHT
BEGIN:STANDARD
TZOFFSETFROM:-0500
TZOFFSETTO:-0600
TZNAME:CST
DTSTART:20251102T070000
END:STANDARD
BEGIN:DAYLIGHT
TZOFFSETFROM:-0600
TZOFFSETTO:-0500
TZNAME:CDT
DTSTART:20260308T080000
END:DAYLIGHT
BEGIN:STANDARD
TZOFFSETFROM:-0500
TZOFFSETTO:-0600
TZNAME:CST
DTSTART:20261101T070000
END:STANDARD
BEGIN:DAYLIGHT
TZOFFSETFROM:-0600
TZOFFSETTO:-0500
TZNAME:CDT
DTSTART:20270314T080000
END:DAYLIGHT
BEGIN:STANDARD
TZOFFSETFROM:-0500
TZOFFSETTO:-0600
TZNAME:CST
DTSTART:20271107T070000
END:STANDARD
BEGIN:DAYLIGHT
TZOFFSETFROM:-0600
TZOFFSETTO:-0500
TZNAME:CDT
DTSTART:20280312T080000
END:DAYLIGHT
BEGIN:STANDARD
TZOFFSETFROM:-0500
TZOFFSETTO:-0600
TZNAME:CST
DTSTART:20281105T070000
END:STANDARD
BEGIN:DAYLIGHT
TZOFFSETFROM:-0600
TZOFFSETTO:-0500
TZNAME:CDT
DTSTART:20290311T080000
END:DAYLIGHT
BEGIN:STANDARD
TZOFFSETFROM:-0500
TZOFFSETTO:-0600
TZNAME:CST
DTSTART:20291104T070000
END:STANDARD
END:VTIMEZONE
BEGIN:VEVENT
DTSTART;TZID=America/Chicago:20260521T173000
DTEND;TZID=America/Chicago:20260521T183000
DTSTAMP:20260419T074752
CREATED:20251222T183619Z
LAST-MODIFIED:20260115T150915Z
UID:10010850-1779384600-1779388200@hutchinsonmn.gov
SUMMARY:Airport Commission
DESCRIPTION:Meeting duration is subject to change.
URL:https://hutchinsonmn.gov/event/airport-commission/2026-05-21/
LOCATION:Hutchinson Municipal Airport\, 1700 Butler Field Dr SW\, Hutchinson\, MN\, 55350\, United States
CATEGORIES:Other Meeting
GEO:44.858891;-94.381668
X-APPLE-STRUCTURED-LOCATION;VALUE=URI;X-ADDRESS=Hutchinson Municipal Airport 1700 Butler Field Dr SW Hutchinson MN 55350 United States;X-APPLE-RADIUS=500;X-TITLE=1700 Butler Field Dr SW:geo:-94.381668,44.858891
END:VEVENT
BEGIN:VEVENT
DTSTART;TZID=America/Chicago:20260618T173000
DTEND;TZID=America/Chicago:20260618T183000
DTSTAMP:20260419T074752
CREATED:20251222T183619Z
LAST-MODIFIED:20260115T150915Z
UID:10010851-1781803800-1781807400@hutchinsonmn.gov
SUMMARY:Airport Commission
DESCRIPTION:Meeting duration is subject to change.
URL:https://hutchinsonmn.gov/event/airport-commission/2026-06-18/
LOCATION:Hutchinson Municipal Airport\, 1700 Butler Field Dr SW\, Hutchinson\, MN\, 55350\, United States
CATEGORIES:Other Meeting
GEO:44.858891;-94.381668
X-APPLE-STRUCTURED-LOCATION;VALUE=URI;X-ADDRESS=Hutchinson Municipal Airport 1700 Butler Field Dr SW Hutchinson MN 55350 United States;X-APPLE-RADIUS=500;X-TITLE=1700 Butler Field Dr SW:geo:-94.381668,44.858891
END:VEVENT
BEGIN:VEVENT
DTSTART;TZID=America/Chicago:20260716T173000
DTEND;TZID=America/Chicago:20260716T183000
DTSTAMP:20260419T074752
CREATED:20251222T183619Z
LAST-MODIFIED:20260115T150915Z
UID:10010852-1784223000-1784226600@hutchinsonmn.gov
SUMMARY:Airport Commission
DESCRIPTION:Meeting duration is subject to change.
URL:https://hutchinsonmn.gov/event/airport-commission/2026-07-16/
LOCATION:Hutchinson Municipal Airport\, 1700 Butler Field Dr SW\, Hutchinson\, MN\, 55350\, United States
CATEGORIES:Other Meeting
GEO:44.858891;-94.381668
X-APPLE-STRUCTURED-LOCATION;VALUE=URI;X-ADDRESS=Hutchinson Municipal Airport 1700 Butler Field Dr SW Hutchinson MN 55350 United States;X-APPLE-RADIUS=500;X-TITLE=1700 Butler Field Dr SW:geo:-94.381668,44.858891
END:VEVENT
BEGIN:VEVENT
DTSTART;TZID=America/Chicago:20260820T173000
DTEND;TZID=America/Chicago:20260820T183000
DTSTAMP:20260419T074752
CREATED:20251222T183619Z
LAST-MODIFIED:20260115T150915Z
UID:10010853-1787247000-1787250600@hutchinsonmn.gov
SUMMARY:Airport Commission
DESCRIPTION:Meeting duration is subject to change.
URL:https://hutchinsonmn.gov/event/airport-commission/2026-08-20/
LOCATION:Hutchinson Municipal Airport\, 1700 Butler Field Dr SW\, Hutchinson\, MN\, 55350\, United States
CATEGORIES:Other Meeting
GEO:44.858891;-94.381668
X-APPLE-STRUCTURED-LOCATION;VALUE=URI;X-ADDRESS=Hutchinson Municipal Airport 1700 Butler Field Dr SW Hutchinson MN 55350 United States;X-APPLE-RADIUS=500;X-TITLE=1700 Butler Field Dr SW:geo:-94.381668,44.858891
END:VEVENT
BEGIN:VEVENT
DTSTART;TZID=America/Chicago:20260917T173000
DTEND;TZID=America/Chicago:20260917T183000
DTSTAMP:20260419T074752
CREATED:20251222T183619Z
LAST-MODIFIED:20260115T150915Z
UID:10010854-1789666200-1789669800@hutchinsonmn.gov
SUMMARY:Airport Commission
DESCRIPTION:Meeting duration is subject to change.
URL:https://hutchinsonmn.gov/event/airport-commission/2026-09-17/
LOCATION:Hutchinson Municipal Airport\, 1700 Butler Field Dr SW\, Hutchinson\, MN\, 55350\, United States
CATEGORIES:Other Meeting
GEO:44.858891;-94.381668
X-APPLE-STRUCTURED-LOCATION;VALUE=URI;X-ADDRESS=Hutchinson Municipal Airport 1700 Butler Field Dr SW Hutchinson MN 55350 United States;X-APPLE-RADIUS=500;X-TITLE=1700 Butler Field Dr SW:geo:-94.381668,44.858891
END:VEVENT
BEGIN:VEVENT
DTSTART;TZID=America/Chicago:20261015T173000
DTEND;TZID=America/Chicago:20261015T183000
DTSTAMP:20260419T074752
CREATED:20251222T183619Z
LAST-MODIFIED:20260115T150915Z
UID:10010855-1792085400-1792089000@hutchinsonmn.gov
SUMMARY:Airport Commission
DESCRIPTION:Meeting duration is subject to change.
URL:https://hutchinsonmn.gov/event/airport-commission/2026-10-15/
LOCATION:Hutchinson Municipal Airport\, 1700 Butler Field Dr SW\, Hutchinson\, MN\, 55350\, United States
CATEGORIES:Other Meeting
GEO:44.858891;-94.381668
X-APPLE-STRUCTURED-LOCATION;VALUE=URI;X-ADDRESS=Hutchinson Municipal Airport 1700 Butler Field Dr SW Hutchinson MN 55350 United States;X-APPLE-RADIUS=500;X-TITLE=1700 Butler Field Dr SW:geo:-94.381668,44.858891
END:VEVENT
BEGIN:VEVENT
DTSTART;TZID=America/Chicago:20261119T173000
DTEND;TZID=America/Chicago:20261119T183000
DTSTAMP:20260419T074752
CREATED:20251222T183619Z
LAST-MODIFIED:20260115T150915Z
UID:10010856-1795109400-1795113000@hutchinsonmn.gov
SUMMARY:Airport Commission
DESCRIPTION:Meeting duration is subject to change.
URL:https://hutchinsonmn.gov/event/airport-commission/2026-11-19/
LOCATION:Hutchinson Municipal Airport\, 1700 Butler Field Dr SW\, Hutchinson\, MN\, 55350\, United States
CATEGORIES:Other Meeting
GEO:44.858891;-94.381668
X-APPLE-STRUCTURED-LOCATION;VALUE=URI;X-ADDRESS=Hutchinson Municipal Airport 1700 Butler Field Dr SW Hutchinson MN 55350 United States;X-APPLE-RADIUS=500;X-TITLE=1700 Butler Field Dr SW:geo:-94.381668,44.858891
END:VEVENT
BEGIN:VEVENT
DTSTART;TZID=America/Chicago:20261217T173000
DTEND;TZID=America/Chicago:20261217T183000
DTSTAMP:20260419T074752
CREATED:20251222T183619Z
LAST-MODIFIED:20260115T150915Z
UID:10010857-1797528600-1797532200@hutchinsonmn.gov
SUMMARY:Airport Commission
DESCRIPTION:Meeting duration is subject to change.
URL:https://hutchinsonmn.gov/event/airport-commission/2026-12-17/
LOCATION:Hutchinson Municipal Airport\, 1700 Butler Field Dr SW\, Hutchinson\, MN\, 55350\, United States
CATEGORIES:Other Meeting
GEO:44.858891;-94.381668
X-APPLE-STRUCTURED-LOCATION;VALUE=URI;X-ADDRESS=Hutchinson Municipal Airport 1700 Butler Field Dr SW Hutchinson MN 55350 United States;X-APPLE-RADIUS=500;X-TITLE=1700 Butler Field Dr SW:geo:-94.381668,44.858891
END:VEVENT
BEGIN:VEVENT
DTSTART;TZID=America/Chicago:20270121T173000
DTEND;TZID=America/Chicago:20270121T183000
DTSTAMP:20260419T074752
CREATED:20251222T183619Z
LAST-MODIFIED:20260115T150915Z
UID:10010858-1800552600-1800556200@hutchinsonmn.gov
SUMMARY:Airport Commission
DESCRIPTION:Meeting duration is subject to change.
URL:https://hutchinsonmn.gov/event/airport-commission/2027-01-21/
LOCATION:Hutchinson Municipal Airport\, 1700 Butler Field Dr SW\, Hutchinson\, MN\, 55350\, United States
CATEGORIES:Other Meeting
GEO:44.858891;-94.381668
X-APPLE-STRUCTURED-LOCATION;VALUE=URI;X-ADDRESS=Hutchinson Municipal Airport 1700 Butler Field Dr SW Hutchinson MN 55350 United States;X-APPLE-RADIUS=500;X-TITLE=1700 Butler Field Dr SW:geo:-94.381668,44.858891
END:VEVENT
BEGIN:VEVENT
DTSTART;TZID=America/Chicago:20270218T173000
DTEND;TZID=America/Chicago:20270218T183000
DTSTAMP:20260419T074752
CREATED:20251222T183619Z
LAST-MODIFIED:20260115T150915Z
UID:10010859-1802971800-1802975400@hutchinsonmn.gov
SUMMARY:Airport Commission
DESCRIPTION:Meeting duration is subject to change.
URL:https://hutchinsonmn.gov/event/airport-commission/2027-02-18/
LOCATION:Hutchinson Municipal Airport\, 1700 Butler Field Dr SW\, Hutchinson\, MN\, 55350\, United States
CATEGORIES:Other Meeting
GEO:44.858891;-94.381668
X-APPLE-STRUCTURED-LOCATION;VALUE=URI;X-ADDRESS=Hutchinson Municipal Airport 1700 Butler Field Dr SW Hutchinson MN 55350 United States;X-APPLE-RADIUS=500;X-TITLE=1700 Butler Field Dr SW:geo:-94.381668,44.858891
END:VEVENT
BEGIN:VEVENT
DTSTART;TZID=America/Chicago:20270318T173000
DTEND;TZID=America/Chicago:20270318T183000
DTSTAMP:20260419T074752
CREATED:20251222T183619Z
LAST-MODIFIED:20260115T150915Z
UID:10010860-1805391000-1805394600@hutchinsonmn.gov
SUMMARY:Airport Commission
DESCRIPTION:Meeting duration is subject to change.
URL:https://hutchinsonmn.gov/event/airport-commission/2027-03-18/
LOCATION:Hutchinson Municipal Airport\, 1700 Butler Field Dr SW\, Hutchinson\, MN\, 55350\, United States
CATEGORIES:Other Meeting
GEO:44.858891;-94.381668
X-APPLE-STRUCTURED-LOCATION;VALUE=URI;X-ADDRESS=Hutchinson Municipal Airport 1700 Butler Field Dr SW Hutchinson MN 55350 United States;X-APPLE-RADIUS=500;X-TITLE=1700 Butler Field Dr SW:geo:-94.381668,44.858891
END:VEVENT
BEGIN:VEVENT
DTSTART;TZID=America/Chicago:20270415T173000
DTEND;TZID=America/Chicago:20270415T183000
DTSTAMP:20260419T074752
CREATED:20251222T183619Z
LAST-MODIFIED:20260115T150915Z
UID:10010861-1807810200-1807813800@hutchinsonmn.gov
SUMMARY:Airport Commission
DESCRIPTION:Meeting duration is subject to change.
URL:https://hutchinsonmn.gov/event/airport-commission/2027-04-15/
LOCATION:Hutchinson Municipal Airport\, 1700 Butler Field Dr SW\, Hutchinson\, MN\, 55350\, United States
CATEGORIES:Other Meeting
GEO:44.858891;-94.381668
X-APPLE-STRUCTURED-LOCATION;VALUE=URI;X-ADDRESS=Hutchinson Municipal Airport 1700 Butler Field Dr SW Hutchinson MN 55350 United States;X-APPLE-RADIUS=500;X-TITLE=1700 Butler Field Dr SW:geo:-94.381668,44.858891
END:VEVENT
BEGIN:VEVENT
DTSTART;TZID=America/Chicago:20270520T173000
DTEND;TZID=America/Chicago:20270520T183000
DTSTAMP:20260419T074752
CREATED:20251222T183619Z
LAST-MODIFIED:20260115T150915Z
UID:10010862-1810834200-1810837800@hutchinsonmn.gov
SUMMARY:Airport Commission
DESCRIPTION:Meeting duration is subject to change.
URL:https://hutchinsonmn.gov/event/airport-commission/2027-05-20/
LOCATION:Hutchinson Municipal Airport\, 1700 Butler Field Dr SW\, Hutchinson\, MN\, 55350\, United States
CATEGORIES:Other Meeting
GEO:44.858891;-94.381668
X-APPLE-STRUCTURED-LOCATION;VALUE=URI;X-ADDRESS=Hutchinson Municipal Airport 1700 Butler Field Dr SW Hutchinson MN 55350 United States;X-APPLE-RADIUS=500;X-TITLE=1700 Butler Field Dr SW:geo:-94.381668,44.858891
END:VEVENT
BEGIN:VEVENT
DTSTART;TZID=America/Chicago:20270617T173000
DTEND;TZID=America/Chicago:20270617T183000
DTSTAMP:20260419T074752
CREATED:20251222T183619Z
LAST-MODIFIED:20260115T150915Z
UID:10010863-1813253400-1813257000@hutchinsonmn.gov
SUMMARY:Airport Commission
DESCRIPTION:Meeting duration is subject to change.
URL:https://hutchinsonmn.gov/event/airport-commission/2027-06-17/
LOCATION:Hutchinson Municipal Airport\, 1700 Butler Field Dr SW\, Hutchinson\, MN\, 55350\, United States
CATEGORIES:Other Meeting
GEO:44.858891;-94.381668
X-APPLE-STRUCTURED-LOCATION;VALUE=URI;X-ADDRESS=Hutchinson Municipal Airport 1700 Butler Field Dr SW Hutchinson MN 55350 United States;X-APPLE-RADIUS=500;X-TITLE=1700 Butler Field Dr SW:geo:-94.381668,44.858891
END:VEVENT
BEGIN:VEVENT
DTSTART;TZID=America/Chicago:20270715T173000
DTEND;TZID=America/Chicago:20270715T183000
DTSTAMP:20260419T074752
CREATED:20251222T183619Z
LAST-MODIFIED:20260115T150915Z
UID:10010864-1815672600-1815676200@hutchinsonmn.gov
SUMMARY:Airport Commission
DESCRIPTION:Meeting duration is subject to change.
URL:https://hutchinsonmn.gov/event/airport-commission/2027-07-15/
LOCATION:Hutchinson Municipal Airport\, 1700 Butler Field Dr SW\, Hutchinson\, MN\, 55350\, United States
CATEGORIES:Other Meeting
GEO:44.858891;-94.381668
X-APPLE-STRUCTURED-LOCATION;VALUE=URI;X-ADDRESS=Hutchinson Municipal Airport 1700 Butler Field Dr SW Hutchinson MN 55350 United States;X-APPLE-RADIUS=500;X-TITLE=1700 Butler Field Dr SW:geo:-94.381668,44.858891
END:VEVENT
BEGIN:VEVENT
DTSTART;TZID=America/Chicago:20270819T173000
DTEND;TZID=America/Chicago:20270819T183000
DTSTAMP:20260419T074752
CREATED:20251222T183619Z
LAST-MODIFIED:20260115T150915Z
UID:10010865-1818696600-1818700200@hutchinsonmn.gov
SUMMARY:Airport Commission
DESCRIPTION:Meeting duration is subject to change.
URL:https://hutchinsonmn.gov/event/airport-commission/2027-08-19/
LOCATION:Hutchinson Municipal Airport\, 1700 Butler Field Dr SW\, Hutchinson\, MN\, 55350\, United States
CATEGORIES:Other Meeting
GEO:44.858891;-94.381668
X-APPLE-STRUCTURED-LOCATION;VALUE=URI;X-ADDRESS=Hutchinson Municipal Airport 1700 Butler Field Dr SW Hutchinson MN 55350 United States;X-APPLE-RADIUS=500;X-TITLE=1700 Butler Field Dr SW:geo:-94.381668,44.858891
END:VEVENT
BEGIN:VEVENT
DTSTART;TZID=America/Chicago:20270916T173000
DTEND;TZID=America/Chicago:20270916T183000
DTSTAMP:20260419T074752
CREATED:20251222T183619Z
LAST-MODIFIED:20260115T150915Z
UID:10010866-1821115800-1821119400@hutchinsonmn.gov
SUMMARY:Airport Commission
DESCRIPTION:Meeting duration is subject to change.
URL:https://hutchinsonmn.gov/event/airport-commission/2027-09-16/
LOCATION:Hutchinson Municipal Airport\, 1700 Butler Field Dr SW\, Hutchinson\, MN\, 55350\, United States
CATEGORIES:Other Meeting
GEO:44.858891;-94.381668
X-APPLE-STRUCTURED-LOCATION;VALUE=URI;X-ADDRESS=Hutchinson Municipal Airport 1700 Butler Field Dr SW Hutchinson MN 55350 United States;X-APPLE-RADIUS=500;X-TITLE=1700 Butler Field Dr SW:geo:-94.381668,44.858891
END:VEVENT
BEGIN:VEVENT
DTSTART;TZID=America/Chicago:20271021T173000
DTEND;TZID=America/Chicago:20271021T183000
DTSTAMP:20260419T074752
CREATED:20251222T183619Z
LAST-MODIFIED:20260115T150915Z
UID:10010867-1824139800-1824143400@hutchinsonmn.gov
SUMMARY:Airport Commission
DESCRIPTION:Meeting duration is subject to change.
URL:https://hutchinsonmn.gov/event/airport-commission/2027-10-21/
LOCATION:Hutchinson Municipal Airport\, 1700 Butler Field Dr SW\, Hutchinson\, MN\, 55350\, United States
CATEGORIES:Other Meeting
GEO:44.858891;-94.381668
X-APPLE-STRUCTURED-LOCATION;VALUE=URI;X-ADDRESS=Hutchinson Municipal Airport 1700 Butler Field Dr SW Hutchinson MN 55350 United States;X-APPLE-RADIUS=500;X-TITLE=1700 Butler Field Dr SW:geo:-94.381668,44.858891
END:VEVENT
BEGIN:VEVENT
DTSTART;TZID=America/Chicago:20271118T173000
DTEND;TZID=America/Chicago:20271118T183000
DTSTAMP:20260419T074752
CREATED:20251222T183619Z
LAST-MODIFIED:20260115T150915Z
UID:10010868-1826559000-1826562600@hutchinsonmn.gov
SUMMARY:Airport Commission
DESCRIPTION:Meeting duration is subject to change.
URL:https://hutchinsonmn.gov/event/airport-commission/2027-11-18/
LOCATION:Hutchinson Municipal Airport\, 1700 Butler Field Dr SW\, Hutchinson\, MN\, 55350\, United States
CATEGORIES:Other Meeting
GEO:44.858891;-94.381668
X-APPLE-STRUCTURED-LOCATION;VALUE=URI;X-ADDRESS=Hutchinson Municipal Airport 1700 Butler Field Dr SW Hutchinson MN 55350 United States;X-APPLE-RADIUS=500;X-TITLE=1700 Butler Field Dr SW:geo:-94.381668,44.858891
END:VEVENT
BEGIN:VEVENT
DTSTART;TZID=America/Chicago:20271216T173000
DTEND;TZID=America/Chicago:20271216T183000
DTSTAMP:20260419T074752
CREATED:20251222T183619Z
LAST-MODIFIED:20260115T150915Z
UID:10010869-1828978200-1828981800@hutchinsonmn.gov
SUMMARY:Airport Commission
DESCRIPTION:Meeting duration is subject to change.
URL:https://hutchinsonmn.gov/event/airport-commission/2027-12-16/
LOCATION:Hutchinson Municipal Airport\, 1700 Butler Field Dr SW\, Hutchinson\, MN\, 55350\, United States
CATEGORIES:Other Meeting
GEO:44.858891;-94.381668
X-APPLE-STRUCTURED-LOCATION;VALUE=URI;X-ADDRESS=Hutchinson Municipal Airport 1700 Butler Field Dr SW Hutchinson MN 55350 United States;X-APPLE-RADIUS=500;X-TITLE=1700 Butler Field Dr SW:geo:-94.381668,44.858891
END:VEVENT
BEGIN:VEVENT
DTSTART;TZID=America/Chicago:20280120T173000
DTEND;TZID=America/Chicago:20280120T183000
DTSTAMP:20260419T074752
CREATED:20251222T183619Z
LAST-MODIFIED:20260115T150915Z
UID:10010870-1832002200-1832005800@hutchinsonmn.gov
SUMMARY:Airport Commission
DESCRIPTION:Meeting duration is subject to change.
URL:https://hutchinsonmn.gov/event/airport-commission/2028-01-20/
LOCATION:Hutchinson Municipal Airport\, 1700 Butler Field Dr SW\, Hutchinson\, MN\, 55350\, United States
CATEGORIES:Other Meeting
GEO:44.858891;-94.381668
X-APPLE-STRUCTURED-LOCATION;VALUE=URI;X-ADDRESS=Hutchinson Municipal Airport 1700 Butler Field Dr SW Hutchinson MN 55350 United States;X-APPLE-RADIUS=500;X-TITLE=1700 Butler Field Dr SW:geo:-94.381668,44.858891
END:VEVENT
BEGIN:VEVENT
DTSTART;TZID=America/Chicago:20280217T173000
DTEND;TZID=America/Chicago:20280217T183000
DTSTAMP:20260419T074752
CREATED:20251222T183619Z
LAST-MODIFIED:20260115T150915Z
UID:10010871-1834421400-1834425000@hutchinsonmn.gov
SUMMARY:Airport Commission
DESCRIPTION:Meeting duration is subject to change.
URL:https://hutchinsonmn.gov/event/airport-commission/2028-02-17/
LOCATION:Hutchinson Municipal Airport\, 1700 Butler Field Dr SW\, Hutchinson\, MN\, 55350\, United States
CATEGORIES:Other Meeting
GEO:44.858891;-94.381668
X-APPLE-STRUCTURED-LOCATION;VALUE=URI;X-ADDRESS=Hutchinson Municipal Airport 1700 Butler Field Dr SW Hutchinson MN 55350 United States;X-APPLE-RADIUS=500;X-TITLE=1700 Butler Field Dr SW:geo:-94.381668,44.858891
END:VEVENT
BEGIN:VEVENT
DTSTART;TZID=America/Chicago:20280316T173000
DTEND;TZID=America/Chicago:20280316T183000
DTSTAMP:20260419T074752
CREATED:20251222T183619Z
LAST-MODIFIED:20260115T150915Z
UID:10010872-1836840600-1836844200@hutchinsonmn.gov
SUMMARY:Airport Commission
DESCRIPTION:Meeting duration is subject to change.
URL:https://hutchinsonmn.gov/event/airport-commission/2028-03-16/
LOCATION:Hutchinson Municipal Airport\, 1700 Butler Field Dr SW\, Hutchinson\, MN\, 55350\, United States
CATEGORIES:Other Meeting
GEO:44.858891;-94.381668
X-APPLE-STRUCTURED-LOCATION;VALUE=URI;X-ADDRESS=Hutchinson Municipal Airport 1700 Butler Field Dr SW Hutchinson MN 55350 United States;X-APPLE-RADIUS=500;X-TITLE=1700 Butler Field Dr SW:geo:-94.381668,44.858891
END:VEVENT
BEGIN:VEVENT
DTSTART;TZID=America/Chicago:20280420T173000
DTEND;TZID=America/Chicago:20280420T183000
DTSTAMP:20260419T074752
CREATED:20251222T183619Z
LAST-MODIFIED:20260115T150915Z
UID:10010873-1839864600-1839868200@hutchinsonmn.gov
SUMMARY:Airport Commission
DESCRIPTION:Meeting duration is subject to change.
URL:https://hutchinsonmn.gov/event/airport-commission/2028-04-20/
LOCATION:Hutchinson Municipal Airport\, 1700 Butler Field Dr SW\, Hutchinson\, MN\, 55350\, United States
CATEGORIES:Other Meeting
GEO:44.858891;-94.381668
X-APPLE-STRUCTURED-LOCATION;VALUE=URI;X-ADDRESS=Hutchinson Municipal Airport 1700 Butler Field Dr SW Hutchinson MN 55350 United States;X-APPLE-RADIUS=500;X-TITLE=1700 Butler Field Dr SW:geo:-94.381668,44.858891
END:VEVENT
BEGIN:VEVENT
DTSTART;TZID=America/Chicago:20280518T173000
DTEND;TZID=America/Chicago:20280518T183000
DTSTAMP:20260419T074752
CREATED:20251222T183619Z
LAST-MODIFIED:20260115T150915Z
UID:10010874-1842283800-1842287400@hutchinsonmn.gov
SUMMARY:Airport Commission
DESCRIPTION:Meeting duration is subject to change.
URL:https://hutchinsonmn.gov/event/airport-commission/2028-05-18/
LOCATION:Hutchinson Municipal Airport\, 1700 Butler Field Dr SW\, Hutchinson\, MN\, 55350\, United States
CATEGORIES:Other Meeting
GEO:44.858891;-94.381668
X-APPLE-STRUCTURED-LOCATION;VALUE=URI;X-ADDRESS=Hutchinson Municipal Airport 1700 Butler Field Dr SW Hutchinson MN 55350 United States;X-APPLE-RADIUS=500;X-TITLE=1700 Butler Field Dr SW:geo:-94.381668,44.858891
END:VEVENT
BEGIN:VEVENT
DTSTART;TZID=America/Chicago:20280615T173000
DTEND;TZID=America/Chicago:20280615T183000
DTSTAMP:20260419T074752
CREATED:20251222T183619Z
LAST-MODIFIED:20260115T150915Z
UID:10010875-1844703000-1844706600@hutchinsonmn.gov
SUMMARY:Airport Commission
DESCRIPTION:Meeting duration is subject to change.
URL:https://hutchinsonmn.gov/event/airport-commission/2028-06-15/
LOCATION:Hutchinson Municipal Airport\, 1700 Butler Field Dr SW\, Hutchinson\, MN\, 55350\, United States
CATEGORIES:Other Meeting
GEO:44.858891;-94.381668
X-APPLE-STRUCTURED-LOCATION;VALUE=URI;X-ADDRESS=Hutchinson Municipal Airport 1700 Butler Field Dr SW Hutchinson MN 55350 United States;X-APPLE-RADIUS=500;X-TITLE=1700 Butler Field Dr SW:geo:-94.381668,44.858891
END:VEVENT
BEGIN:VEVENT
DTSTART;TZID=America/Chicago:20280720T173000
DTEND;TZID=America/Chicago:20280720T183000
DTSTAMP:20260419T074752
CREATED:20251222T183619Z
LAST-MODIFIED:20260115T150915Z
UID:10010876-1847727000-1847730600@hutchinsonmn.gov
SUMMARY:Airport Commission
DESCRIPTION:Meeting duration is subject to change.
URL:https://hutchinsonmn.gov/event/airport-commission/2028-07-20/
LOCATION:Hutchinson Municipal Airport\, 1700 Butler Field Dr SW\, Hutchinson\, MN\, 55350\, United States
CATEGORIES:Other Meeting
GEO:44.858891;-94.381668
X-APPLE-STRUCTURED-LOCATION;VALUE=URI;X-ADDRESS=Hutchinson Municipal Airport 1700 Butler Field Dr SW Hutchinson MN 55350 United States;X-APPLE-RADIUS=500;X-TITLE=1700 Butler Field Dr SW:geo:-94.381668,44.858891
END:VEVENT
BEGIN:VEVENT
DTSTART;TZID=America/Chicago:20280817T173000
DTEND;TZID=America/Chicago:20280817T183000
DTSTAMP:20260419T074752
CREATED:20251222T183619Z
LAST-MODIFIED:20260115T150915Z
UID:10010877-1850146200-1850149800@hutchinsonmn.gov
SUMMARY:Airport Commission
DESCRIPTION:Meeting duration is subject to change.
URL:https://hutchinsonmn.gov/event/airport-commission/2028-08-17/
LOCATION:Hutchinson Municipal Airport\, 1700 Butler Field Dr SW\, Hutchinson\, MN\, 55350\, United States
CATEGORIES:Other Meeting
GEO:44.858891;-94.381668
X-APPLE-STRUCTURED-LOCATION;VALUE=URI;X-ADDRESS=Hutchinson Municipal Airport 1700 Butler Field Dr SW Hutchinson MN 55350 United States;X-APPLE-RADIUS=500;X-TITLE=1700 Butler Field Dr SW:geo:-94.381668,44.858891
END:VEVENT
BEGIN:VEVENT
DTSTART;TZID=America/Chicago:20280921T173000
DTEND;TZID=America/Chicago:20280921T183000
DTSTAMP:20260419T074752
CREATED:20251222T183619Z
LAST-MODIFIED:20260115T150915Z
UID:10010878-1853170200-1853173800@hutchinsonmn.gov
SUMMARY:Airport Commission
DESCRIPTION:Meeting duration is subject to change.
URL:https://hutchinsonmn.gov/event/airport-commission/2028-09-21/
LOCATION:Hutchinson Municipal Airport\, 1700 Butler Field Dr SW\, Hutchinson\, MN\, 55350\, United States
CATEGORIES:Other Meeting
GEO:44.858891;-94.381668
X-APPLE-STRUCTURED-LOCATION;VALUE=URI;X-ADDRESS=Hutchinson Municipal Airport 1700 Butler Field Dr SW Hutchinson MN 55350 United States;X-APPLE-RADIUS=500;X-TITLE=1700 Butler Field Dr SW:geo:-94.381668,44.858891
END:VEVENT
BEGIN:VEVENT
DTSTART;TZID=America/Chicago:20281019T173000
DTEND;TZID=America/Chicago:20281019T183000
DTSTAMP:20260419T074752
CREATED:20251222T183619Z
LAST-MODIFIED:20260115T150915Z
UID:10010879-1855589400-1855593000@hutchinsonmn.gov
SUMMARY:Airport Commission
DESCRIPTION:Meeting duration is subject to change.
URL:https://hutchinsonmn.gov/event/airport-commission/2028-10-19/
LOCATION:Hutchinson Municipal Airport\, 1700 Butler Field Dr SW\, Hutchinson\, MN\, 55350\, United States
CATEGORIES:Other Meeting
GEO:44.858891;-94.381668
X-APPLE-STRUCTURED-LOCATION;VALUE=URI;X-ADDRESS=Hutchinson Municipal Airport 1700 Butler Field Dr SW Hutchinson MN 55350 United States;X-APPLE-RADIUS=500;X-TITLE=1700 Butler Field Dr SW:geo:-94.381668,44.858891
END:VEVENT
END:VCALENDAR