BEGIN:VCALENDAR
VERSION:2.0
PRODID:-//City of Hutchinson - ECPv6.15.18//NONSGML v1.0//EN
CALSCALE:GREGORIAN
METHOD:PUBLISH
X-ORIGINAL-URL:https://hutchinsonmn.gov
X-WR-CALDESC:Events for City of Hutchinson
REFRESH-INTERVAL;VALUE=DURATION:PT1H
X-Robots-Tag:noindex
X-PUBLISHED-TTL:PT1H
BEGIN:VTIMEZONE
TZID:America/Chicago
BEGIN:DAYLIGHT
TZOFFSETFROM:-0600
TZOFFSETTO:-0500
TZNAME:CDT
DTSTART:20270314T080000
END:DAYLIGHT
BEGIN:STANDARD
TZOFFSETFROM:-0500
TZOFFSETTO:-0600
TZNAME:CST
DTSTART:20271107T070000
END:STANDARD
BEGIN:DAYLIGHT
TZOFFSETFROM:-0600
TZOFFSETTO:-0500
TZNAME:CDT
DTSTART:20280312T080000
END:DAYLIGHT
BEGIN:STANDARD
TZOFFSETFROM:-0500
TZOFFSETTO:-0600
TZNAME:CST
DTSTART:20281105T070000
END:STANDARD
BEGIN:DAYLIGHT
TZOFFSETFROM:-0600
TZOFFSETTO:-0500
TZNAME:CDT
DTSTART:20290311T080000
END:DAYLIGHT
BEGIN:STANDARD
TZOFFSETFROM:-0500
TZOFFSETTO:-0600
TZNAME:CST
DTSTART:20291104T070000
END:STANDARD
BEGIN:DAYLIGHT
TZOFFSETFROM:-0600
TZOFFSETTO:-0500
TZNAME:CDT
DTSTART:20300310T080000
END:DAYLIGHT
BEGIN:STANDARD
TZOFFSETFROM:-0500
TZOFFSETTO:-0600
TZNAME:CST
DTSTART:20301103T070000
END:STANDARD
BEGIN:DAYLIGHT
TZOFFSETFROM:-0600
TZOFFSETTO:-0500
TZNAME:CDT
DTSTART:20310309T080000
END:DAYLIGHT
BEGIN:STANDARD
TZOFFSETFROM:-0500
TZOFFSETTO:-0600
TZNAME:CST
DTSTART:20311102T070000
END:STANDARD
BEGIN:DAYLIGHT
TZOFFSETFROM:-0600
TZOFFSETTO:-0500
TZNAME:CDT
DTSTART:20320314T080000
END:DAYLIGHT
BEGIN:STANDARD
TZOFFSETFROM:-0500
TZOFFSETTO:-0600
TZNAME:CST
DTSTART:20321107T070000
END:STANDARD
END:VTIMEZONE
BEGIN:VEVENT
DTSTART;TZID=America/Chicago:20281017T173000
DTEND;TZID=America/Chicago:20281017T173000
DTSTAMP:20260423T090635
CREATED:20251222T184155Z
LAST-MODIFIED:20260115T152047Z
UID:10011283-1855416600-1855416600@hutchinsonmn.gov
SUMMARY:Planning Commission
DESCRIPTION:Meeting duration is subject to change.
URL:https://hutchinsonmn.gov/event/planning-commission/2028-10-17/
LOCATION:City Center Council Chambers\, 111 Hassan St SE \, Hutchinson\, MN\, 55350\, United States
CATEGORIES:Other Meeting
GEO:44.8907709;-94.3669117
X-APPLE-STRUCTURED-LOCATION;VALUE=URI;X-ADDRESS=City Center Council Chambers 111 Hassan St SE  Hutchinson MN 55350 United States;X-APPLE-RADIUS=500;X-TITLE=111 Hassan St SE:geo:-94.3669117,44.8907709
END:VEVENT
BEGIN:VEVENT
DTSTART;TZID=America/Chicago:20281121T173000
DTEND;TZID=America/Chicago:20281121T173000
DTSTAMP:20260423T090635
CREATED:20251222T184155Z
LAST-MODIFIED:20260115T152047Z
UID:10011284-1858440600-1858440600@hutchinsonmn.gov
SUMMARY:Planning Commission
DESCRIPTION:Meeting duration is subject to change.
URL:https://hutchinsonmn.gov/event/planning-commission/2028-11-21/
LOCATION:City Center Council Chambers\, 111 Hassan St SE \, Hutchinson\, MN\, 55350\, United States
CATEGORIES:Other Meeting
GEO:44.8907709;-94.3669117
X-APPLE-STRUCTURED-LOCATION;VALUE=URI;X-ADDRESS=City Center Council Chambers 111 Hassan St SE  Hutchinson MN 55350 United States;X-APPLE-RADIUS=500;X-TITLE=111 Hassan St SE:geo:-94.3669117,44.8907709
END:VEVENT
BEGIN:VEVENT
DTSTART;TZID=America/Chicago:20281219T173000
DTEND;TZID=America/Chicago:20281219T173000
DTSTAMP:20260423T090635
CREATED:20251222T184155Z
LAST-MODIFIED:20260115T152047Z
UID:10011285-1860859800-1860859800@hutchinsonmn.gov
SUMMARY:Planning Commission
DESCRIPTION:Meeting duration is subject to change.
URL:https://hutchinsonmn.gov/event/planning-commission/2028-12-19/
LOCATION:City Center Council Chambers\, 111 Hassan St SE \, Hutchinson\, MN\, 55350\, United States
CATEGORIES:Other Meeting
GEO:44.8907709;-94.3669117
X-APPLE-STRUCTURED-LOCATION;VALUE=URI;X-ADDRESS=City Center Council Chambers 111 Hassan St SE  Hutchinson MN 55350 United States;X-APPLE-RADIUS=500;X-TITLE=111 Hassan St SE:geo:-94.3669117,44.8907709
END:VEVENT
BEGIN:VEVENT
DTSTART;TZID=America/Chicago:20290116T173000
DTEND;TZID=America/Chicago:20290116T173000
DTSTAMP:20260423T090635
CREATED:20251222T184155Z
LAST-MODIFIED:20260115T152047Z
UID:10011286-1863279000-1863279000@hutchinsonmn.gov
SUMMARY:Planning Commission
DESCRIPTION:Meeting duration is subject to change.
URL:https://hutchinsonmn.gov/event/planning-commission/2029-01-16/
LOCATION:City Center Council Chambers\, 111 Hassan St SE \, Hutchinson\, MN\, 55350\, United States
CATEGORIES:Other Meeting
GEO:44.8907709;-94.3669117
X-APPLE-STRUCTURED-LOCATION;VALUE=URI;X-ADDRESS=City Center Council Chambers 111 Hassan St SE  Hutchinson MN 55350 United States;X-APPLE-RADIUS=500;X-TITLE=111 Hassan St SE:geo:-94.3669117,44.8907709
END:VEVENT
BEGIN:VEVENT
DTSTART;TZID=America/Chicago:20290220T173000
DTEND;TZID=America/Chicago:20290220T173000
DTSTAMP:20260423T090635
CREATED:20251222T184155Z
LAST-MODIFIED:20260115T152047Z
UID:10011287-1866303000-1866303000@hutchinsonmn.gov
SUMMARY:Planning Commission
DESCRIPTION:Meeting duration is subject to change.
URL:https://hutchinsonmn.gov/event/planning-commission/2029-02-20/
LOCATION:City Center Council Chambers\, 111 Hassan St SE \, Hutchinson\, MN\, 55350\, United States
CATEGORIES:Other Meeting
GEO:44.8907709;-94.3669117
X-APPLE-STRUCTURED-LOCATION;VALUE=URI;X-ADDRESS=City Center Council Chambers 111 Hassan St SE  Hutchinson MN 55350 United States;X-APPLE-RADIUS=500;X-TITLE=111 Hassan St SE:geo:-94.3669117,44.8907709
END:VEVENT
BEGIN:VEVENT
DTSTART;TZID=America/Chicago:20290320T173000
DTEND;TZID=America/Chicago:20290320T173000
DTSTAMP:20260423T090635
CREATED:20251222T184155Z
LAST-MODIFIED:20260115T152047Z
UID:10011288-1868722200-1868722200@hutchinsonmn.gov
SUMMARY:Planning Commission
DESCRIPTION:Meeting duration is subject to change.
URL:https://hutchinsonmn.gov/event/planning-commission/2029-03-20/
LOCATION:City Center Council Chambers\, 111 Hassan St SE \, Hutchinson\, MN\, 55350\, United States
CATEGORIES:Other Meeting
GEO:44.8907709;-94.3669117
X-APPLE-STRUCTURED-LOCATION;VALUE=URI;X-ADDRESS=City Center Council Chambers 111 Hassan St SE  Hutchinson MN 55350 United States;X-APPLE-RADIUS=500;X-TITLE=111 Hassan St SE:geo:-94.3669117,44.8907709
END:VEVENT
BEGIN:VEVENT
DTSTART;TZID=America/Chicago:20290417T173000
DTEND;TZID=America/Chicago:20290417T173000
DTSTAMP:20260423T090635
CREATED:20251222T184155Z
LAST-MODIFIED:20260115T152047Z
UID:10011289-1871141400-1871141400@hutchinsonmn.gov
SUMMARY:Planning Commission
DESCRIPTION:Meeting duration is subject to change.
URL:https://hutchinsonmn.gov/event/planning-commission/2029-04-17/
LOCATION:City Center Council Chambers\, 111 Hassan St SE \, Hutchinson\, MN\, 55350\, United States
CATEGORIES:Other Meeting
GEO:44.8907709;-94.3669117
X-APPLE-STRUCTURED-LOCATION;VALUE=URI;X-ADDRESS=City Center Council Chambers 111 Hassan St SE  Hutchinson MN 55350 United States;X-APPLE-RADIUS=500;X-TITLE=111 Hassan St SE:geo:-94.3669117,44.8907709
END:VEVENT
BEGIN:VEVENT
DTSTART;TZID=America/Chicago:20290515T173000
DTEND;TZID=America/Chicago:20290515T173000
DTSTAMP:20260423T090635
CREATED:20251222T184155Z
LAST-MODIFIED:20260115T152047Z
UID:10011290-1873560600-1873560600@hutchinsonmn.gov
SUMMARY:Planning Commission
DESCRIPTION:Meeting duration is subject to change.
URL:https://hutchinsonmn.gov/event/planning-commission/2029-05-15/
LOCATION:City Center Council Chambers\, 111 Hassan St SE \, Hutchinson\, MN\, 55350\, United States
CATEGORIES:Other Meeting
GEO:44.8907709;-94.3669117
X-APPLE-STRUCTURED-LOCATION;VALUE=URI;X-ADDRESS=City Center Council Chambers 111 Hassan St SE  Hutchinson MN 55350 United States;X-APPLE-RADIUS=500;X-TITLE=111 Hassan St SE:geo:-94.3669117,44.8907709
END:VEVENT
BEGIN:VEVENT
DTSTART;TZID=America/Chicago:20290619T173000
DTEND;TZID=America/Chicago:20290619T173000
DTSTAMP:20260423T090635
CREATED:20251222T184155Z
LAST-MODIFIED:20260115T152047Z
UID:10011291-1876584600-1876584600@hutchinsonmn.gov
SUMMARY:Planning Commission
DESCRIPTION:Meeting duration is subject to change.
URL:https://hutchinsonmn.gov/event/planning-commission/2029-06-19/
LOCATION:City Center Council Chambers\, 111 Hassan St SE \, Hutchinson\, MN\, 55350\, United States
CATEGORIES:Other Meeting
GEO:44.8907709;-94.3669117
X-APPLE-STRUCTURED-LOCATION;VALUE=URI;X-ADDRESS=City Center Council Chambers 111 Hassan St SE  Hutchinson MN 55350 United States;X-APPLE-RADIUS=500;X-TITLE=111 Hassan St SE:geo:-94.3669117,44.8907709
END:VEVENT
BEGIN:VEVENT
DTSTART;TZID=America/Chicago:20290717T173000
DTEND;TZID=America/Chicago:20290717T173000
DTSTAMP:20260423T090635
CREATED:20251222T184155Z
LAST-MODIFIED:20260115T152047Z
UID:10011292-1879003800-1879003800@hutchinsonmn.gov
SUMMARY:Planning Commission
DESCRIPTION:Meeting duration is subject to change.
URL:https://hutchinsonmn.gov/event/planning-commission/2029-07-17/
LOCATION:City Center Council Chambers\, 111 Hassan St SE \, Hutchinson\, MN\, 55350\, United States
CATEGORIES:Other Meeting
GEO:44.8907709;-94.3669117
X-APPLE-STRUCTURED-LOCATION;VALUE=URI;X-ADDRESS=City Center Council Chambers 111 Hassan St SE  Hutchinson MN 55350 United States;X-APPLE-RADIUS=500;X-TITLE=111 Hassan St SE:geo:-94.3669117,44.8907709
END:VEVENT
BEGIN:VEVENT
DTSTART;TZID=America/Chicago:20290821T173000
DTEND;TZID=America/Chicago:20290821T173000
DTSTAMP:20260423T090635
CREATED:20251222T184155Z
LAST-MODIFIED:20260115T152047Z
UID:10011293-1882027800-1882027800@hutchinsonmn.gov
SUMMARY:Planning Commission
DESCRIPTION:Meeting duration is subject to change.
URL:https://hutchinsonmn.gov/event/planning-commission/2029-08-21/
LOCATION:City Center Council Chambers\, 111 Hassan St SE \, Hutchinson\, MN\, 55350\, United States
CATEGORIES:Other Meeting
GEO:44.8907709;-94.3669117
X-APPLE-STRUCTURED-LOCATION;VALUE=URI;X-ADDRESS=City Center Council Chambers 111 Hassan St SE  Hutchinson MN 55350 United States;X-APPLE-RADIUS=500;X-TITLE=111 Hassan St SE:geo:-94.3669117,44.8907709
END:VEVENT
BEGIN:VEVENT
DTSTART;TZID=America/Chicago:20290918T173000
DTEND;TZID=America/Chicago:20290918T173000
DTSTAMP:20260423T090635
CREATED:20251222T184155Z
LAST-MODIFIED:20260115T152047Z
UID:10011294-1884447000-1884447000@hutchinsonmn.gov
SUMMARY:Planning Commission
DESCRIPTION:Meeting duration is subject to change.
URL:https://hutchinsonmn.gov/event/planning-commission/2029-09-18/
LOCATION:City Center Council Chambers\, 111 Hassan St SE \, Hutchinson\, MN\, 55350\, United States
CATEGORIES:Other Meeting
GEO:44.8907709;-94.3669117
X-APPLE-STRUCTURED-LOCATION;VALUE=URI;X-ADDRESS=City Center Council Chambers 111 Hassan St SE  Hutchinson MN 55350 United States;X-APPLE-RADIUS=500;X-TITLE=111 Hassan St SE:geo:-94.3669117,44.8907709
END:VEVENT
BEGIN:VEVENT
DTSTART;TZID=America/Chicago:20291016T173000
DTEND;TZID=America/Chicago:20291016T173000
DTSTAMP:20260423T090635
CREATED:20251222T184155Z
LAST-MODIFIED:20260115T152047Z
UID:10011295-1886866200-1886866200@hutchinsonmn.gov
SUMMARY:Planning Commission
DESCRIPTION:Meeting duration is subject to change.
URL:https://hutchinsonmn.gov/event/planning-commission/2029-10-16/
LOCATION:City Center Council Chambers\, 111 Hassan St SE \, Hutchinson\, MN\, 55350\, United States
CATEGORIES:Other Meeting
GEO:44.8907709;-94.3669117
X-APPLE-STRUCTURED-LOCATION;VALUE=URI;X-ADDRESS=City Center Council Chambers 111 Hassan St SE  Hutchinson MN 55350 United States;X-APPLE-RADIUS=500;X-TITLE=111 Hassan St SE:geo:-94.3669117,44.8907709
END:VEVENT
BEGIN:VEVENT
DTSTART;TZID=America/Chicago:20291120T173000
DTEND;TZID=America/Chicago:20291120T173000
DTSTAMP:20260423T090635
CREATED:20251222T184155Z
LAST-MODIFIED:20260115T152047Z
UID:10011296-1889890200-1889890200@hutchinsonmn.gov
SUMMARY:Planning Commission
DESCRIPTION:Meeting duration is subject to change.
URL:https://hutchinsonmn.gov/event/planning-commission/2029-11-20/
LOCATION:City Center Council Chambers\, 111 Hassan St SE \, Hutchinson\, MN\, 55350\, United States
CATEGORIES:Other Meeting
GEO:44.8907709;-94.3669117
X-APPLE-STRUCTURED-LOCATION;VALUE=URI;X-ADDRESS=City Center Council Chambers 111 Hassan St SE  Hutchinson MN 55350 United States;X-APPLE-RADIUS=500;X-TITLE=111 Hassan St SE:geo:-94.3669117,44.8907709
END:VEVENT
BEGIN:VEVENT
DTSTART;TZID=America/Chicago:20291218T173000
DTEND;TZID=America/Chicago:20291218T173000
DTSTAMP:20260423T090635
CREATED:20251222T184155Z
LAST-MODIFIED:20260115T152047Z
UID:10011297-1892309400-1892309400@hutchinsonmn.gov
SUMMARY:Planning Commission
DESCRIPTION:Meeting duration is subject to change.
URL:https://hutchinsonmn.gov/event/planning-commission/2029-12-18/
LOCATION:City Center Council Chambers\, 111 Hassan St SE \, Hutchinson\, MN\, 55350\, United States
CATEGORIES:Other Meeting
GEO:44.8907709;-94.3669117
X-APPLE-STRUCTURED-LOCATION;VALUE=URI;X-ADDRESS=City Center Council Chambers 111 Hassan St SE  Hutchinson MN 55350 United States;X-APPLE-RADIUS=500;X-TITLE=111 Hassan St SE:geo:-94.3669117,44.8907709
END:VEVENT
BEGIN:VEVENT
DTSTART;TZID=America/Chicago:20300115T173000
DTEND;TZID=America/Chicago:20300115T173000
DTSTAMP:20260423T090635
CREATED:20251222T184155Z
LAST-MODIFIED:20260115T152047Z
UID:10011298-1894728600-1894728600@hutchinsonmn.gov
SUMMARY:Planning Commission
DESCRIPTION:Meeting duration is subject to change.
URL:https://hutchinsonmn.gov/event/planning-commission/2030-01-15/
LOCATION:City Center Council Chambers\, 111 Hassan St SE \, Hutchinson\, MN\, 55350\, United States
CATEGORIES:Other Meeting
GEO:44.8907709;-94.3669117
X-APPLE-STRUCTURED-LOCATION;VALUE=URI;X-ADDRESS=City Center Council Chambers 111 Hassan St SE  Hutchinson MN 55350 United States;X-APPLE-RADIUS=500;X-TITLE=111 Hassan St SE:geo:-94.3669117,44.8907709
END:VEVENT
BEGIN:VEVENT
DTSTART;TZID=America/Chicago:20300219T173000
DTEND;TZID=America/Chicago:20300219T173000
DTSTAMP:20260423T090635
CREATED:20251222T184155Z
LAST-MODIFIED:20260115T152047Z
UID:10011299-1897752600-1897752600@hutchinsonmn.gov
SUMMARY:Planning Commission
DESCRIPTION:Meeting duration is subject to change.
URL:https://hutchinsonmn.gov/event/planning-commission/2030-02-19/
LOCATION:City Center Council Chambers\, 111 Hassan St SE \, Hutchinson\, MN\, 55350\, United States
CATEGORIES:Other Meeting
GEO:44.8907709;-94.3669117
X-APPLE-STRUCTURED-LOCATION;VALUE=URI;X-ADDRESS=City Center Council Chambers 111 Hassan St SE  Hutchinson MN 55350 United States;X-APPLE-RADIUS=500;X-TITLE=111 Hassan St SE:geo:-94.3669117,44.8907709
END:VEVENT
BEGIN:VEVENT
DTSTART;TZID=America/Chicago:20300319T173000
DTEND;TZID=America/Chicago:20300319T173000
DTSTAMP:20260423T090635
CREATED:20251222T184155Z
LAST-MODIFIED:20260115T152047Z
UID:10011300-1900171800-1900171800@hutchinsonmn.gov
SUMMARY:Planning Commission
DESCRIPTION:Meeting duration is subject to change.
URL:https://hutchinsonmn.gov/event/planning-commission/2030-03-19/
LOCATION:City Center Council Chambers\, 111 Hassan St SE \, Hutchinson\, MN\, 55350\, United States
CATEGORIES:Other Meeting
GEO:44.8907709;-94.3669117
X-APPLE-STRUCTURED-LOCATION;VALUE=URI;X-ADDRESS=City Center Council Chambers 111 Hassan St SE  Hutchinson MN 55350 United States;X-APPLE-RADIUS=500;X-TITLE=111 Hassan St SE:geo:-94.3669117,44.8907709
END:VEVENT
BEGIN:VEVENT
DTSTART;TZID=America/Chicago:20300416T173000
DTEND;TZID=America/Chicago:20300416T173000
DTSTAMP:20260423T090635
CREATED:20251222T184155Z
LAST-MODIFIED:20260115T152047Z
UID:10011301-1902591000-1902591000@hutchinsonmn.gov
SUMMARY:Planning Commission
DESCRIPTION:Meeting duration is subject to change.
URL:https://hutchinsonmn.gov/event/planning-commission/2030-04-16/
LOCATION:City Center Council Chambers\, 111 Hassan St SE \, Hutchinson\, MN\, 55350\, United States
CATEGORIES:Other Meeting
GEO:44.8907709;-94.3669117
X-APPLE-STRUCTURED-LOCATION;VALUE=URI;X-ADDRESS=City Center Council Chambers 111 Hassan St SE  Hutchinson MN 55350 United States;X-APPLE-RADIUS=500;X-TITLE=111 Hassan St SE:geo:-94.3669117,44.8907709
END:VEVENT
BEGIN:VEVENT
DTSTART;TZID=America/Chicago:20300521T173000
DTEND;TZID=America/Chicago:20300521T173000
DTSTAMP:20260423T090635
CREATED:20251222T184155Z
LAST-MODIFIED:20260115T152047Z
UID:10011302-1905615000-1905615000@hutchinsonmn.gov
SUMMARY:Planning Commission
DESCRIPTION:Meeting duration is subject to change.
URL:https://hutchinsonmn.gov/event/planning-commission/2030-05-21/
LOCATION:City Center Council Chambers\, 111 Hassan St SE \, Hutchinson\, MN\, 55350\, United States
CATEGORIES:Other Meeting
GEO:44.8907709;-94.3669117
X-APPLE-STRUCTURED-LOCATION;VALUE=URI;X-ADDRESS=City Center Council Chambers 111 Hassan St SE  Hutchinson MN 55350 United States;X-APPLE-RADIUS=500;X-TITLE=111 Hassan St SE:geo:-94.3669117,44.8907709
END:VEVENT
BEGIN:VEVENT
DTSTART;TZID=America/Chicago:20300618T173000
DTEND;TZID=America/Chicago:20300618T173000
DTSTAMP:20260423T090635
CREATED:20251222T184155Z
LAST-MODIFIED:20260115T152047Z
UID:10011303-1908034200-1908034200@hutchinsonmn.gov
SUMMARY:Planning Commission
DESCRIPTION:Meeting duration is subject to change.
URL:https://hutchinsonmn.gov/event/planning-commission/2030-06-18/
LOCATION:City Center Council Chambers\, 111 Hassan St SE \, Hutchinson\, MN\, 55350\, United States
CATEGORIES:Other Meeting
GEO:44.8907709;-94.3669117
X-APPLE-STRUCTURED-LOCATION;VALUE=URI;X-ADDRESS=City Center Council Chambers 111 Hassan St SE  Hutchinson MN 55350 United States;X-APPLE-RADIUS=500;X-TITLE=111 Hassan St SE:geo:-94.3669117,44.8907709
END:VEVENT
BEGIN:VEVENT
DTSTART;TZID=America/Chicago:20300716T173000
DTEND;TZID=America/Chicago:20300716T173000
DTSTAMP:20260423T090635
CREATED:20251222T184155Z
LAST-MODIFIED:20260115T152047Z
UID:10011304-1910453400-1910453400@hutchinsonmn.gov
SUMMARY:Planning Commission
DESCRIPTION:Meeting duration is subject to change.
URL:https://hutchinsonmn.gov/event/planning-commission/2030-07-16/
LOCATION:City Center Council Chambers\, 111 Hassan St SE \, Hutchinson\, MN\, 55350\, United States
CATEGORIES:Other Meeting
GEO:44.8907709;-94.3669117
X-APPLE-STRUCTURED-LOCATION;VALUE=URI;X-ADDRESS=City Center Council Chambers 111 Hassan St SE  Hutchinson MN 55350 United States;X-APPLE-RADIUS=500;X-TITLE=111 Hassan St SE:geo:-94.3669117,44.8907709
END:VEVENT
BEGIN:VEVENT
DTSTART;TZID=America/Chicago:20300820T173000
DTEND;TZID=America/Chicago:20300820T173000
DTSTAMP:20260423T090635
CREATED:20251222T184155Z
LAST-MODIFIED:20260115T152047Z
UID:10011305-1913477400-1913477400@hutchinsonmn.gov
SUMMARY:Planning Commission
DESCRIPTION:Meeting duration is subject to change.
URL:https://hutchinsonmn.gov/event/planning-commission/2030-08-20/
LOCATION:City Center Council Chambers\, 111 Hassan St SE \, Hutchinson\, MN\, 55350\, United States
CATEGORIES:Other Meeting
GEO:44.8907709;-94.3669117
X-APPLE-STRUCTURED-LOCATION;VALUE=URI;X-ADDRESS=City Center Council Chambers 111 Hassan St SE  Hutchinson MN 55350 United States;X-APPLE-RADIUS=500;X-TITLE=111 Hassan St SE:geo:-94.3669117,44.8907709
END:VEVENT
BEGIN:VEVENT
DTSTART;TZID=America/Chicago:20300917T173000
DTEND;TZID=America/Chicago:20300917T173000
DTSTAMP:20260423T090635
CREATED:20251222T184155Z
LAST-MODIFIED:20260115T152047Z
UID:10011306-1915896600-1915896600@hutchinsonmn.gov
SUMMARY:Planning Commission
DESCRIPTION:Meeting duration is subject to change.
URL:https://hutchinsonmn.gov/event/planning-commission/2030-09-17/
LOCATION:City Center Council Chambers\, 111 Hassan St SE \, Hutchinson\, MN\, 55350\, United States
CATEGORIES:Other Meeting
GEO:44.8907709;-94.3669117
X-APPLE-STRUCTURED-LOCATION;VALUE=URI;X-ADDRESS=City Center Council Chambers 111 Hassan St SE  Hutchinson MN 55350 United States;X-APPLE-RADIUS=500;X-TITLE=111 Hassan St SE:geo:-94.3669117,44.8907709
END:VEVENT
BEGIN:VEVENT
DTSTART;TZID=America/Chicago:20301015T173000
DTEND;TZID=America/Chicago:20301015T173000
DTSTAMP:20260423T090635
CREATED:20251222T184155Z
LAST-MODIFIED:20260115T152047Z
UID:10011307-1918315800-1918315800@hutchinsonmn.gov
SUMMARY:Planning Commission
DESCRIPTION:Meeting duration is subject to change.
URL:https://hutchinsonmn.gov/event/planning-commission/2030-10-15/
LOCATION:City Center Council Chambers\, 111 Hassan St SE \, Hutchinson\, MN\, 55350\, United States
CATEGORIES:Other Meeting
GEO:44.8907709;-94.3669117
X-APPLE-STRUCTURED-LOCATION;VALUE=URI;X-ADDRESS=City Center Council Chambers 111 Hassan St SE  Hutchinson MN 55350 United States;X-APPLE-RADIUS=500;X-TITLE=111 Hassan St SE:geo:-94.3669117,44.8907709
END:VEVENT
BEGIN:VEVENT
DTSTART;TZID=America/Chicago:20301119T173000
DTEND;TZID=America/Chicago:20301119T173000
DTSTAMP:20260423T090635
CREATED:20251222T184155Z
LAST-MODIFIED:20260115T152047Z
UID:10011308-1921339800-1921339800@hutchinsonmn.gov
SUMMARY:Planning Commission
DESCRIPTION:Meeting duration is subject to change.
URL:https://hutchinsonmn.gov/event/planning-commission/2030-11-19/
LOCATION:City Center Council Chambers\, 111 Hassan St SE \, Hutchinson\, MN\, 55350\, United States
CATEGORIES:Other Meeting
GEO:44.8907709;-94.3669117
X-APPLE-STRUCTURED-LOCATION;VALUE=URI;X-ADDRESS=City Center Council Chambers 111 Hassan St SE  Hutchinson MN 55350 United States;X-APPLE-RADIUS=500;X-TITLE=111 Hassan St SE:geo:-94.3669117,44.8907709
END:VEVENT
BEGIN:VEVENT
DTSTART;TZID=America/Chicago:20301217T173000
DTEND;TZID=America/Chicago:20301217T173000
DTSTAMP:20260423T090635
CREATED:20251222T184155Z
LAST-MODIFIED:20260115T152047Z
UID:10011309-1923759000-1923759000@hutchinsonmn.gov
SUMMARY:Planning Commission
DESCRIPTION:Meeting duration is subject to change.
URL:https://hutchinsonmn.gov/event/planning-commission/2030-12-17/
LOCATION:City Center Council Chambers\, 111 Hassan St SE \, Hutchinson\, MN\, 55350\, United States
CATEGORIES:Other Meeting
GEO:44.8907709;-94.3669117
X-APPLE-STRUCTURED-LOCATION;VALUE=URI;X-ADDRESS=City Center Council Chambers 111 Hassan St SE  Hutchinson MN 55350 United States;X-APPLE-RADIUS=500;X-TITLE=111 Hassan St SE:geo:-94.3669117,44.8907709
END:VEVENT
BEGIN:VEVENT
DTSTART;TZID=America/Chicago:20310121T173000
DTEND;TZID=America/Chicago:20310121T173000
DTSTAMP:20260423T090635
CREATED:20251222T184155Z
LAST-MODIFIED:20260115T152047Z
UID:10011439-1926783000-1926783000@hutchinsonmn.gov
SUMMARY:Planning Commission
DESCRIPTION:Meeting duration is subject to change.
URL:https://hutchinsonmn.gov/event/planning-commission/2031-01-21/
LOCATION:City Center Council Chambers\, 111 Hassan St SE \, Hutchinson\, MN\, 55350\, United States
CATEGORIES:Other Meeting
GEO:44.8907709;-94.3669117
X-APPLE-STRUCTURED-LOCATION;VALUE=URI;X-ADDRESS=City Center Council Chambers 111 Hassan St SE  Hutchinson MN 55350 United States;X-APPLE-RADIUS=500;X-TITLE=111 Hassan St SE:geo:-94.3669117,44.8907709
END:VEVENT
BEGIN:VEVENT
DTSTART;TZID=America/Chicago:20310218T173000
DTEND;TZID=America/Chicago:20310218T173000
DTSTAMP:20260423T090635
CREATED:20251222T184155Z
LAST-MODIFIED:20260115T152047Z
UID:10011440-1929202200-1929202200@hutchinsonmn.gov
SUMMARY:Planning Commission
DESCRIPTION:Meeting duration is subject to change.
URL:https://hutchinsonmn.gov/event/planning-commission/2031-02-18/
LOCATION:City Center Council Chambers\, 111 Hassan St SE \, Hutchinson\, MN\, 55350\, United States
CATEGORIES:Other Meeting
GEO:44.8907709;-94.3669117
X-APPLE-STRUCTURED-LOCATION;VALUE=URI;X-ADDRESS=City Center Council Chambers 111 Hassan St SE  Hutchinson MN 55350 United States;X-APPLE-RADIUS=500;X-TITLE=111 Hassan St SE:geo:-94.3669117,44.8907709
END:VEVENT
BEGIN:VEVENT
DTSTART;TZID=America/Chicago:20310318T173000
DTEND;TZID=America/Chicago:20310318T173000
DTSTAMP:20260423T090635
CREATED:20251222T184155Z
LAST-MODIFIED:20260115T152047Z
UID:10011446-1931621400-1931621400@hutchinsonmn.gov
SUMMARY:Planning Commission
DESCRIPTION:Meeting duration is subject to change.
URL:https://hutchinsonmn.gov/event/planning-commission/2031-03-18/
LOCATION:City Center Council Chambers\, 111 Hassan St SE \, Hutchinson\, MN\, 55350\, United States
CATEGORIES:Other Meeting
GEO:44.8907709;-94.3669117
X-APPLE-STRUCTURED-LOCATION;VALUE=URI;X-ADDRESS=City Center Council Chambers 111 Hassan St SE  Hutchinson MN 55350 United States;X-APPLE-RADIUS=500;X-TITLE=111 Hassan St SE:geo:-94.3669117,44.8907709
END:VEVENT
END:VCALENDAR